Workbook

Sheet Simplified
D2: GATES
C3: University of Georgia Trucking cost Estimation System
C4: Simplified
B6: The GATES tool is designed as a way to estimate log truck costs across the US South.
B7: Default inputs are provided, these boxes should be overwritten for your specific situation, or the defaults can be left in place.
B8: Saving this form after the defaults have been changed will cause the defaults to be overwritten. Default values can be found on column AH if replacement is warranted.
B9: Log trucks are assumed to be heavy-duty trucks and trailers with a total configuration of five axles.
B10: Results from this tool are estimates for one truck and one trailer.
D12: INPUTS | I12: RESULTS | AH12: DEFAULT VALUES
BC13: CALCULATIONS | BO13: ASSUMPTIONS AND AVERAGES
A14: Working Weeks per Year | D14: 50 | I14: Productivity Results | AH14: Working Weeks per Year | AK14: 50 | BE14: Computations (per Truck) | BO14: Weeks Per Year | BP14: 50
A15: Days per Week | D15: 5 | I15: Loads per Truck per Day | K15: =BE60 -> 4 | AH15: Days per Week | AK15: 5 | BC15: Annual Costs | BE15: Annual | BF15: Per Day | BO15: Hours Per Day | BP15: 10
A16: Hours per Day | D16: 10 | I16: Tons per Truck per Day | K16: =BE36 -> 114 | AH16: Hours per Day | AK16: 10 | BD16: Truck | BE16: =(PMT(BP31,BP32,IF(D24="New Vehicle",BP29,BP30),IF(D24="New Vehicle",BP33,BP34)))*-1 -> 72906.967 | BF16: =BE16/(D14*D15) -> 291.62787 | BO16: Days Per Week | BP16: 5 | CH16: LISTS
I17: Miles per Truck per Day | K17: =BD43*K15 -> 272.8 | BD17: Insurance | BE17: =D26 -> 13453.9 | BF17: =BE17/(D14*D15) -> 53.8156 | CI17: Drop Downs
A18: Average Payload (US tons) | D18: 28.5 | I18: Driver Hours per Day | K18: =BE66 -> 10 | AH18: Average Payload (US tons) | AK18: 28.5 | BD18: Permits/Taxes | BE18: =D27 -> 2598.27 | BF18: =BE18/(D14*D15) -> 10.39308 | BO18: Costs | BP18: Average | BR18: Labor | BS18: Average | BU18: Other | BV18: Average | CH18: Weeks/yr | CI18: Days/wk | CJ18: Hours | CK18: Payload | CL18: MPG | CM18: Insurance | CN18: Permits/Taxes | CO18: % Loaded Miles
BO19: R&M | BP19: 12637.64 | BR19: Salary ($/yr) | BS19: 65112.34 | BU19: Payload (Tons) | BV19: 28.5 | CH19: 35 | CI19: 1 | CJ19: 1 | CK19: 20 | CL19: 3.5 | CM19: 1000 | CN19: 0 | CO19: 0.05
A20: Fuel Cost ($/gal) | D20: 3.63 | AH20: Fuel Cost ($/gal) | AK20: 3.63 | BC20: Total | BE20: =SUM(BE16:BE18) -> 88959.137 | BF20: =SUM(BF16:BF18) -> 355.83655 | BO20: Tires | BP20: 4837.8 | BR20: Weekly ($/wk) | BS20: =BS19/BP14 -> 1302.2468 | BU20: Fuel Milage | BV20: 5.41 | CH20: 36 | CI20: 2 | CJ20: 1.5 | CK20: 20.5 | CL20: 4 | CM20: 1500 | CN20: 500 | CO20: 0.1
A21: Average MPG | D21: 5.4 | I21: Specific Cost Breakdown Per Truck | AH21: Average MPG | AK21: 5.4 | BO21: Fuel | BP21: 54051.07 | BR21: Daily ($/day) | BS21: =BS20/BP16 -> 260.44936 | BU21: Fuel Cost | BV21: 3.85 | CH21: 37 | CI21: 3 | CJ21: 2 | CK21: 21 | CL21: 4.5 | CM21: 2000 | CN21: 1000 | CO21: 0.15
K22: Annual | L22: Daily | M22: Per Mile | N22: Per RT Minute | O22: Per Ton | P22: Per Ton Mile | Q22: =BJ23 -> % of Cost | BC22: Specific Cost Breakdown | BO22: Ins | BP22: 13453.9 | BR22: Hourly ($/hr) | BS22: =BS21/BP15 -> 26.044936 | CH22: 38 | CI22: 4 | CJ22: 2.5 | CK22: 21.5 | CL22: 5 | CM22: 2500 | CN22: 1500 | CO22: 0.2
A23: Equipment | J23: Truck | K23: =BD24 -> 72906.967 | L23: =BE24 -> 291.62787 | M23: =BF24 -> 1.0690171 | N23: =BG24 -> 0.41848082 | O23: =BH24 -> 2.5581392 | P23: =BI24 -> 0.06395348 | Q23: =BJ24 -> 0.3325463 | AH23: Equipment | BD23: Annual | BE23: Daily | BF23: Per Mile | BG23: Per RT Minute | BH23: Per Ton | BI23: Per Ton Mile | BJ23: % of Cost | BO23: Payments | BP23: 21723.52 | BR23: % of Revenue | BS23: =4563.31/D15/D16 -> 91.2662 | BU23: Overhead Benefits | CH23: 39 | CI23: 5 | CJ23: 3 | CK23: 22 | CL23: 5.5 | CM23: 3000 | CN23: 2000 | CO23: 0.25
A24: New or Used trucks? | D24: New Vehicle | J24: Trailer | K24: =BD25 -> 1144.8889 | L24: =BE25 -> 4.5795556 | M24: =BF25 -> 0.016787227 | N24: =BG25 -> 0.006571581 | O24: =BH25 -> 0.04017154 | P24: =BI25 -> 0.0010042885 | Q24: =BJ25 -> 0.0052221149 | AH24: New or Used trucks? | AK24: New Vehicle | BC24: Truck | BD24: =BE24*$D$15*$D$14 -> 72906.967 | BE24: =BF16 -> 291.62787 | BF24: =BE24/($BD$43*$BE$60) -> 1.0690171 | BG24: =BE24/(($BF$53*$K$15)) -> 0.41848082 | BH24: =BE24/$BE$36 -> 2.5581392 | BI24: =BH24/MAX($D$39,SUM($BD$39:$BD$40)) -> 0.06395348 | BJ24: =BE24/$BE$34 -> 0.3325463 | BO24: Tolls | BP24: 522.73 | BR24: Per Loaded Mile ($/mile) | BS24: =AVERAGE(1.15,3.75) -> 2.45 | BV24: 0.15 | CH24: 40 | CI24: 6 | CJ24: 3.5 | CK24: 22.5 | CL24: 6 | CM24: 3500 | CN24: 2500 | CO24: 0.3
A25: Type of Trailer | D25: 4-Bolster | J25: =BC26 -> Permits/Taxes | K25: =BD26 -> 2598.27 | L25: =BE26 -> 10.39308 | M25: =BF26 -> 0.038097801 | N25: =BG26 -> 0.014913885 | O25: =BH26 -> 0.091167368 | P25: =BI26 -> 0.0022791842 | Q25: =BJ26 -> 0.011851337 | AH25: Type of Trailer | AK25: 4-Bolster | BC25: Trailer | BD25: =BE25*$D$15*$D$14 -> 1144.8889 | BE25: =(IF(D25="Plantation", BP37, IF(D25="4-Bolster", BP38, IF(D25="Pole", BP39, IF(D25="Chip Van", BP40, IF(D25="Other/Combination", BP41, 0))))))/BP42/D14/D15 -> 4.5795556 | BF25: =BE25/($BD$43*$BE$60) -> 0.016787227 | BG25: =BE25/(($BF$53*$K$15)) -> 0.006571581 | BH25: =BE25/$BE$36 -> 0.04017154 | BI25: =BH25/MAX($D$39,SUM($BD$39:$BD$40)) -> 0.0010042885 | BJ25: =BE25/$BE$34 -> 0.0052221149 | BO25: Permits | BP25: 2598.27 | BR25: Per Load ($/load) | BS25: =AVERAGE(70,60,60,66,90) -> 69.2 | BU25: Average miles/yr | CH25: 41 | CI25: 7 | CJ25: 4 | CK25: 23 | CL25: 6.5 | CM25: 4000 | CN25: 3000 | CO25: 0.35
A26: Insurance ($/yr) | D26: 13453.9 | J26: Insurance | K26: =BD27 -> 13453.9 | L26: =BE27 -> 53.8156 | M26: =BF27 -> 0.19727126 | N26: =BG27 -> 0.077224431 | O26: =BH27 -> 0.47206667 | P26: =BI27 -> 0.011801667 | Q26: =BJ27 -> 0.061366489 | AH26: Insurance ($/yr) | AK26: 13453.9 | BC26: Permits/Taxes | BD26: =BE18 -> 2598.27 | BE26: =BF18 -> 10.39308 | BF26: =BE26/($BD$43*$BE$60) -> 0.038097801 | BG26: =BE26/(($BF$53*$K$15)) -> 0.014913885 | BH26: =BE26/$BE$36 -> 0.091167368 | BI26: =BH26/MAX($D$39,SUM($BD$39:$BD$40)) -> 0.0022791842 | BJ26: =BE26/$BE$34 -> 0.011851337 | BO26: Other | BP26: 3002.3 | BV26: 71125 | CH26: 42 | CJ26: 4.5 | CK26: 23.5 | CL26: 7 | CM26: 4500 | CN26: 3500 | CO26: 0.4
A27: Permits/Taxes ($/yr) | D27: 2598.27 | J27: Labor | K27: =BD28 -> 65100 | L27: =BE28 -> 260.4 | M27: =BF28 -> 0.95454545 | N27: =BG28 -> 0.37366938 | O27: =BH28 -> 2.2842105 | P27: =BI28 -> 0.057105263 | Q27: =BJ28 -> 0.29693683 | AH27: Permits/Taxes ($/yr) | AK27: 2598.27 | BC27: Insurance | BD27: =BE27*$D$15*$D$14 -> 13453.9 | BE27: =BF17 -> 53.8156 | BF27: =BE27/($BD$43*$BE$60) -> 0.19727126 | BG27: =BE27/(($BF$53*$K$15)) -> 0.077224431 | BH27: =BE27/$BE$36 -> 0.47206667 | BI27: =BH27/MAX($D$39,SUM($BD$39:$BD$40)) -> 0.011801667 | BJ27: =BE27/$BE$34 -> 0.061366489 | BO27: Total | BP27: =SUM(BP19:BP26) -> 112827.23 | CH27: 43 | CJ27: 5 | CK27: 24 | CL27: 7.5 | CM27: 5000 | CN27: 4000 | CO27: 0.45
J28: Fuel | K28: =BD29 -> 45845.556 | L28: =BE29 -> 183.38222 | M28: =BF29 -> 0.67222222 | N28: =BG29 -> 0.26315024 | O28: =BH29 -> 1.608616 | P28: =BI29 -> 0.0402154 | Q28: =BJ29 -> 0.20911266 | BC28: Labor | BD28: =BE28*$D$15*$D$14 -> 65100 | BE28: =BE71 -> 260.4 | BF28: =BE28/($BD$43*$BE$60) -> 0.95454545 | BG28: =BE28/(($BF$53*$K$15)) -> 0.37366938 | BH28: =BE28/$BE$36 -> 2.2842105 | BI28: =BH28/MAX($D$39,SUM($BD$39:$BD$40)) -> 0.057105263 | BJ28: =BE28/$BE$34 -> 0.29693683 | BR28: Benefits (% of wage) | BU28: Based on survey data | CH28: 44 | CJ28: 5.5 | CK28: 24.5 | CM28: 5500 | CN28: 4500 | CO28: 0.5
A29: Labor | J29: Tires | K29: =BD30 -> 4638.8465 | L29: =BE30 -> 18.555386 | M29: =BF30 -> 0.068018278 | N29: =BG30 -> 0.02662665 | O29: =BH30 -> 0.16276655 | P29: =BI30 -> 0.0040691636 | Q29: =BJ30 -> 0.0211589 | AH29: Labor | BC29: Fuel | BD29: =BE29*$D$15*$D$14 -> 45845.556 | BE29: =D20*BI43*BE60 -> 183.38222 | BF29: =BE29/($BD$43*$BE$60) -> 0.67222222 | BG29: =BE29/(($BF$53*$K$15)) -> 0.26315024 | BH29: =BE29/$BE$36 -> 1.608616 | BI29: =BH29/MAX($D$39,SUM($BD$39:$BD$40)) -> 0.0402154 | BJ29: =BE29/$BE$34 -> 0.20911266 | BO29: New Vehicle | BP29: 194798.17 | BR29: Y | BS29: 0.3026 | BV29: $/mile | CH29: 45 | CJ29: 6 | CK29: 25 | CM29: 6000 | CN29: 5000 | CO29: 0.55
A30: Driver Pay Style | D30: Hourly ($/hr) | J30: Minor Repair and Maintenance | K30: =BD31 -> 12117.92 | L30: =BE31 -> 48.471679 | M30: =BF31 -> 0.17768211 | N30: =BG31 -> 0.069556 | O30: =BH31 -> 0.42519017 | P30: =BI31 -> 0.010629754 | Q30: =BJ31 -> 0.055272761 | AH30: Driver Pay Style | AK30: Hourly ($/hr) | BC30: Tires | BD30: =BE30*$D$15*$D$14 -> 4638.8465 | BE30: =BJ43*BE60 -> 18.555386 | BF30: =BE30/($BD$43*$BE$60) -> 0.068018278 | BG30: =BE30/(($BF$53*$K$15)) -> 0.02662665 | BH30: =BE30/$BE$36 -> 0.16276655 | BI30: =BH30/MAX($D$39,SUM($BD$39:$BD$40)) -> 0.0040691636 | BJ30: =BE30/$BE$34 -> 0.0211589 | BO30: Used Vehicle | BP30: 103309.52 | BR30: N | BS30: 0 | BU30: Tires | BV30: =BP20/BV26 -> 0.068018278 | CH30: 46 | CJ30: 6.5 | CK30: 25.5 | CM30: 6500 | CN30: 5500 | CO30: 0.6
A31: Driver Pay Amount | D31: 26.04 | J31: Oil and Lube | K31: =BD32 -> 1432.2 | L31: =BE32 -> 5.7288 | M31: =BF32 -> 0.021 | N31: =BG32 -> 0.0082207264 | O31: =BH32 -> 0.050252632 | P31: =BI32 -> 0.0012563158 | Q31: =BJ32 -> 0.0065326103 | AH31: Driver Pay Amount | AK31: 26.04 | BC31: Minor Repair and Maintenance | BD31: =BE31*$D$15*$D$14 -> 12117.92 | BE31: =(BK43*BE60) -> 48.471679 | BF31: =BE31/($BD$43*$BE$60) -> 0.17768211 | BG31: =BE31/(($BF$53*$K$15)) -> 0.069556 | BH31: =BE31/$BE$36 -> 0.42519017 | BI31: =BH31/MAX($D$39,SUM($BD$39:$BD$40)) -> 0.010629754 | BJ31: =BE31/$BE$34 -> 0.055272761 | BO31: Rate | BP31: 0.09 | BU31: Minor Repair and Maintenance | BV31: =BP19/BV26 -> 0.17768211 | CH31: 47 | CJ31: 7 | CK31: 26 | CM31: 7000 | CN31: 6000 | CO31: 0.65
BC32: Oil and Lube | BD32: =BE32*$D$15*$D$14 -> 1432.2 | BE32: =BL43*BE60 -> 5.7288 | BF32: =BE32/($BD$43*$BE$60) -> 0.021 | BG32: =BE32/(($BF$53*$K$15)) -> 0.0082207264 | BH32: =BE32/$BE$36 -> 0.050252632 | BI32: =BH32/MAX($D$39,SUM($BD$39:$BD$40)) -> 0.0012563158 | BJ32: =BE32/$BE$34 -> 0.0065326103 | BO32: Years | BP32: 4 | BR32: Mechanic Cost | BU32: Oil and Lube | BV32: 0.021 | CH32: 48 | CJ32: 7.5 | CK32: 26.5 | CM32: 7500 | CN32: 6500 | CO32: 0.7
A33: Benefits? (Y/N) | D33: N | J33: Total | K33: =BD34 -> 219238.55 | L33: =SUM(L23:L31) -> 876.95419 | M33: =SUM(M23:M31) -> 3.2146415 | N33: =SUM(N23:N31) -> 1.2584137 | O33: =SUM(O23:O31) -> 7.6925806 | P33: =SUM(P23:P31) -> 0.19231452 | Q33: =BJ34 -> 1 | AH33: Benefits? (Y/N) | AK33: N | BO33: Salvage Value New | BP33: =0.3*BP29 -> 58439.451 | BR33: Average salary | BS33: 59372.83 | CH33: 49 | CJ33: 8 | CK33: 27 | CM33: 8000 | CN33: 7000 | CO33: 0.75
BC34: Total | BD34: =SUM(BD24:BD32) -> 219238.55 | BE34: =SUM(BE24:BE32) -> 876.95419 | BF34: =SUM(BF24:BF32) -> 3.2146415 | BG34: =SUM(BG24:BG32) -> 1.2584137 | BH34: =SUM(BH24:BH32) -> 7.6925806 | BI34: =SUM(BI24:BI32) -> 0.19231452 | BJ34: =SUM(BJ24:BJ32) -> 1 | BO34: Salvage Value Used | BP34: =0.3*BP30 -> 30992.856 | BR34: Number of Mechanics | BS34: 1 | BU34: Based on ATRI 2025 | CH34: 50 | CJ34: 8.5 | CK34: 27.5 | CM34: 8500 | CN34: 7500 | CO34: 0.8
A35: Route | AH35: Route | BV35: $/mile | CH35: 51 | CJ35: 9 | CK35: 28 | CM35: 9000 | CN35: 8000 | CO35: 0.85
A36: Road Type | D36: Mileage, one way | AH36: Road Type | AK36: Mileage, one way | BC36: Volume Moved | BE36: =D18*BE60 -> 114 | BO36: Trailers | BU36: Tires | BV36: 0.047 | CH36: 52 | CJ36: 9.5 | CK36: 28.5 | CM36: 9500 | CN36: 8500 | CO36: 0.9
A37: Unpaved/Forest Road | D37: 1 | AH37: Unpaved/Forest Road | AK37: 1 | BO37: Plantation | BP37: 22027.778 | BR37: Unloaded Miles | BU37: Minor Repair and Maintenance | BV37: 0.363 | CJ37: 10 | CK37: 29 | CM37: 10000 | CN37: 9000 | CO37: 0.95
A38: Paved Road | D38: 30 | AH38: Paved Road | AK38: 30 | BC38: Road Type | BD38: Mileage | BE38: MPH | BF38: Minutes/Mile | BG38: Time | BH38: MPG | BI38: Fuel Used | BJ38: Tires | BK38: Minor Repair and Maintenance | BL38: Oil and Lube | BO38: 4-Bolster | BP38: 28622.222 | BR38: Unloaded Miles (%) | BS38: 0.45 | CJ38: 10.5 | CK38: 29.5 | CM38: 10500 | CN38: 9500 | CO38: 1
A39: Minimum Haul Distance | D39: 40 | AH39: Minimum Haul Distance | AK39: 40 | BC39: Woods Road Loaded | BD39: =D37 -> 1 | BE39: 10 | BF39: =60/BE39 -> 6 | BG39: =BF39*BD39 -> 6 | BH39: =$D$21 -> 5.4 | BI39: =BD39/BH39 -> 0.18518519 | BJ39: =$BI$49*BD39 -> 0.068018278 | BK39: =$BI$50*BD39 -> 0.17768211 | BL39: =$BI$51*BD39 -> 0.021 | BO39: Pole | BP39: 17000 | BR39: Ancillary Mileage | BS39: =1-(2*IF(BS38>1,BS38/100,BS38)) -> 0.1 | CJ39: 11 | CK39: 30 | CM39: 11000 | CN39: 10000
BC40: Paved Road Loaded | BD40: =D38 -> 30 | BE40: 55 | BF40: =60/BE40 -> 1.0909091 | BG40: =BF40*BD40 -> 32.727273 | BH40: =$D$21 -> 5.4 | BI40: =BD40/BH40 -> 5.5555556 | BJ40: =$BI$49*BD40 -> 2.0405483 | BK40: =$BI$50*BD40 -> 5.3304633 | BL40: =$BI$51*BD40 -> 0.63 | BO40: Chip Van | BP40: 67266.667 | CJ40: 11.5 | CK40: 30.5 | CM40: 11500
A41: Delays | D41: Minutes | AH41: Delays | AK41: Minutes | BC41: Paved Road Unloaded | BD41: =D38+BD46 -> 36.2 | BE41: 55 | BF41: =60/BE41 -> 1.0909091 | BG41: =BF41*BD41 -> 39.490909 | BH41: =$D$21 -> 5.4 | BI41: =BD41/BH41 -> 6.7037037 | BJ41: =$BI$49*BD41 -> 2.4622617 | BK41: =$BI$50*BD41 -> 6.4320923 | BL41: =$BI$51*BD41 -> 0.7602 | BO41: Other/Combination | BP41: 36475.69 | CJ41: 12 | CK41: 31 | CM41: 12000
A42: Woods Turn-Time | D42: 30 | AH42: Woods Wait per Trip | AK42: 30 | BC42: Woods Road Unloaded | BD42: =D37 -> 1 | BE42: 10 | BF42: =60/BE42 -> 6 | BG42: =BF42*BD42 -> 6 | BH42: =$D$21 -> 5.4 | BI42: =BD42/BH42 -> 0.18518519 | BJ42: =$BI$49*BD42 -> 0.068018278 | BK42: =$BI$50*BD42 -> 0.17768211 | BL42: =$BI$51*BD42 -> 0.021 | BO42: Average years in service | BP42: 25 | CJ42: 12.5 | CK42: 31.5 | CM42: 12500
A43: Mill Turn-Time | D43: 60 | AH43: Mill Wait per Trip | AK43: 60 | BC43: Total | BD43: =SUM(BD39:BD42) -> 68.2 | BG43: =SUM(BG39:BG42) -> 84.218182 | BI43: =SUM(BI39:BI42) -> 12.62963 | BJ43: =SUM(BJ39:BJ42) -> 4.6388465 | BK43: =SUM(BK39:BK42) -> 12.11792 | BL43: =SUM(BL39:BL42) -> 1.4322 | CJ43: 13 | CK43: 32 | CM43: 13000
...

Sheet Advanced
D2: GATES
C3: University of Georgia Trucking cost Estimation System
C4: Advanced
B6: The GATES tool is designed as a way to estimate log truck costs across the US South.
B7: Default inputs are provided, these boxes should be overwritten for your specific situation, or the defaults can be left in place.
B8: Saving this form after the defaults have been changed will cause the defaults to be overwritten. Default values can be found on column AL if replacement is warranted.
B9: Log trucks are assumed to be heavy-duty trucks and trailers with a total configuration of five axles.
B10: Results from this tool are estimates for one truck and one trailer.
D12: INPUTS | I12: RESULTS | AH12: DEFAULT VALUES
BC13: CALCULATIONS | BO13: ASSUMPTIONS AND AVERAGES
A14: Working Weeks per Year | D14: =Simplified!D14 -> 50 | I14: Productivity Results | AH14: Working Weeks per Year | AK14: 50 | BE14: Computations (per Truck) | BO14: Weeks Per Year | BP14: 50
A15: Days per Week | D15: =Simplified!D15 -> 5 | I15: Loads per Truck per Day | K15: =BE60 -> 4 | AH15: Days per Week | AK15: 5 | BC15: Annual Costs | BE15: Annual | BF15: Per Day | BO15: Hours Per Day | BP15: 10
A16: Hours per Day | D16: =Simplified!D16 -> 10 | I16: Tons per Truck per Day | K16: =BE36 -> 114 | AH16: Hours per Day | AK16: 10 | BD16: Truck | BE16: =IF(AND(E32>0, E33>0, E34>0), PMT(E32, E33, E31, E34)*-1, IF(AND(ISNUMBER(E31), E31>500), E31/E35, PMT(BP31, BP32, IF(D30="New Vehicle", BP29, BP30), BP33)*-1)) -> 76725.198 | BF16: =BE16/(D14*D15) -> 306.90079 | BO16: Days Per Week | BP16: 5 | CH16: LISTS
I17: Miles per Truck per Day | K17: =BD43*K15 -> 272.8 | BD17: Insurance | BE17: =D40 -> 13453.9 | BF17: =BE17/(D14*D15) -> 53.8156 | CI17: Drop Downs
A18: Average Payload (US tons) | D18: =Simplified!D18 -> 28.5 | I18: Driver Hours per Day | K18: =BE66 -> 10 | AH18: Average Payload (US tons) | AK18: 28.5 | BD18: Permits/Taxes | BE18: =D41 -> 2598.27 | BF18: =BE18/(D14*D15) -> 10.39308 | BO18: Annual Costs | BP18: Average | BR18: Labor | BS18: Average | BU18: Other | BV18: Average | CH18: Weeks/yr | CI18: Days/wk | CJ18: Hours | CK18: Payload | CL18: MPG | CM18: Insurance | CN18: Permits/Taxes
BO19: R&M | BP19: 12637.64 | BR19: Salary ($/yr) | BS19: 65112.34 | BU19: Payload (Tons) | BV19: 28.5 | CH19: 35 | CI19: 1 | CJ19: 1 | CK19: 20 | CL19: 3.5 | CM19: 1000 | CN19: 0
A20: Fuel Cost ($/gal) | D20: =Simplified!D20 -> 3.63 | AH20: Fuel Cost ($/gal) | AK20: 3.63 | BC20: Total | BE20: =SUM(BE16:BE18) -> 92777.368 | BF20: =SUM(BF16:BF18) -> 371.10947 | BO20: Tires | BP20: 4837.8 | BR20: Weekly ($/wk) | BS20: =BS19/BP14 -> 1302.2468 | BU20: Fuel Milage | BV20: 5.41 | CH20: 36 | CI20: 2 | CJ20: 1.5 | CK20: 20.5 | CL20: 4 | CM20: 1500 | CN20: 500
A21: Average MPG | D21: =Simplified!D21 -> 5.4 | I21: Specific Cost Breakdown Per Truck | AH21: Average MPG | AK21: 5.4 | BO21: Fuel | BP21: 54051.07 | BR21: Daily ($/day) | BS21: =BS20/BP16 -> 260.44936 | BU21: Fuel Cost | BV21: 3.85 | CH21: 37 | CI21: 3 | CJ21: 2 | CK21: 21 | CL21: 4.5 | CM21: 2000 | CN21: 1000
K22: Annual | L22: Daily | M22: Per Mile | N22: Per RT Minute | O22: Per Ton | P22: Per Ton Mile | Q22: =BJ23 -> % of Cost | BC22: Specific Cost Breakdown | BO22: Ins | BP22: 13453.9 | BR22: Hourly ($/hr) | BS22: =BS21/BP15 -> 26.044936 | CH22: 38 | CI22: 4 | CJ22: 2.5 | CK22: 21.5 | CL22: 5 | CM22: 2500 | CN22: 1500
A23: Detailed MPG Data? | E23: N | J23: Truck | K23: =BD24 -> 76725.198 | L23: =BE24 -> 306.90079 | M23: =BF24 -> 1.1250029 | N23: =BG24 -> 0.42811057 | O23: =BH24 -> 2.6921122 | P23: =BI24 -> 0.067302806 | Q23: =BJ24 -> 0.32164919 | AH23: Detailed MPG Data? | AL23: N | BD23: Annual | BE23: Daily | BF23: Per Mile | BG23: Per RT Minute | BH23: Per Ton | BI23: Per Ton Mile | BJ23: % of Cost | BO23: Payments | BP23: 21723.52 | BR23: % of Revenue | BS23: 29.12 | BT23: =4687.5/D15/D16 -> 93.75 | BU23: Overhead Benefits | CH23: 39 | CI23: 5 | CJ23: 3 | CK23: 22 | CL23: 5.5 | CM23: 3000 | CN23: 2000
A24: Unpaved Road MPG (Loaded) | E24: 5.19 | J24: Trailer | K24: =BD25 -> 1160 | L24: =BE25 -> 4.64 | M24: =BF25 -> 0.017008798 | N24: =BG25 -> 0.0064725576 | O24: =BH25 -> 0.040701754 | P24: =BI25 -> 0.0010175439 | Q24: =BJ25 -> 0.0048629795 | AH24: Unpaved Road MPG (Loaded) | AL24: 5.19 | BC24: Truck | BD24: =BE24*$D$15*$D$14 -> 76725.198 | BE24: =BF16 -> 306.90079 | BF24: =BE24/($BD$43*$BE$60) -> 1.1250029 | BG24: =BE24/(($BF$53*$K$15)) -> 0.42811057 | BH24: =BE24/$BE$36 -> 2.6921122 | BI24: =BH24/MAX($D$62,SUM($BD$39:$BD$40)) -> 0.067302806 | BJ24: =BE24/$BE$34 -> 0.32164919 | BO24: Tolls | BP24: 522.73 | BR24: Per Loaded Mile ($/mile) | BS24: =AVERAGE(1.15,3.75) -> 2.45 | BV24: 0.15 | CH24: 40 | CI24: 6 | CJ24: 3.5 | CK24: 22.5 | CL24: 6 | CM24: 3500 | CN24: 2500
A25: Paved Road MPG (Loaded) | E25: 5.46 | J25: =BC26 -> Permits/Taxes | K25: =BD26 -> 2598.27 | L25: =BE26 -> 10.39308 | M25: =BF26 -> 0.038097801 | N25: =BG26 -> 0.014497804 | O25: =BI26 -> 0.0022791842 | P25: =BJ26 -> 0.010892529 | Q25: =BJ26 -> 0.010892529 | AH25: Paved Road MPG (Loaded) | AL25: 5.46 | BC25: Trailer | BD25: =(IF(E37>1000,E37,(IF(D36="Plantation",BP37,IF(D36="4-Bolster",BP38,IF(D36="Pole",BP39,IF(D36="Chip Van",BP40,IF(D36="Other/Combination",BP41,0))))))))/(IF(ISNUMBER(E38),E38,BP42)) -> 1160 | BE25: =BD25/D14/D15 -> 4.64 | BF25: =BE25/($BD$43*$BE$60) -> 0.017008798 | BG25: =BE25/(($BF$53*$K$15)) -> 0.0064725576 | BH25: =BE25/$BE$36 -> 0.040701754 | BI25: =BH25/MAX($D$62,SUM($BD$39:$BD$40)) -> 0.0010175439 | BJ25: =BE25/$BE$34 -> 0.0048629795 | BO25: Permits | BP25: 2598.27 | BR25: Per Load ($/load) | BS25: =AVERAGE(70,60,60,66,90) -> 69.2 | BU25: Average miles/yr | CH25: 41 | CI25: 7 | CJ25: 4 | CK25: 23 | CL25: 6.5 | CM25: 4000 | CN25: 3000
A26: Paved Road MPG (Unloaded) | E26: 6.22 | J26: Insurance | K26: =BD27 -> 13453.9 | L26: =BE27 -> 53.8156 | M26: =BF27 -> 0.19727126 | N26: =BG27 -> 0.07506995 | O26: =BH27 -> 0.47206667 | P26: =BI27 -> 0.011801667 | Q26: =BJ27 -> 0.056401758 | AH26: Paved Road MPG (Unloaded) | AL26: 6.22 | BC26: Permits/Taxes | BD26: =BE18 -> 2598.27 | BE26: =BF18 -> 10.39308 | BF26: =BE26/($BD$43*$BE$60) -> 0.038097801 | BG26: =BE26/(($BF$53*$K$15)) -> 0.014497804 | BH26: =BE26/$BE$36 -> 0.091167368 | BI26: =BH26/MAX($D$62,SUM($BD$39:$BD$40)) -> 0.0022791842 | BJ26: =BE26/$BE$34 -> 0.010892529 | BO26: Other | BP26: 3002.3 | BV26: 71125 | CH26: 42 | CJ26: 4.5 | CK26: 23.5 | CL26: 7 | CM26: 4500 | CN26: 3500
A27: Unpaved Road MPG (Unloaded) | E27: 6.08 | J27: Labor | K27: =BD28 -> 74865 | L27: =BE28 -> 299.46 | M27: =BF28 -> 1.0977273 | N27: =BG28 -> 0.41773105 | O27: =BH28 -> 2.6268421 | P27: =BI28 -> 0.065671053 | Q27: =BJ28 -> 0.31385083 | AH27: Unpaved Road MPG (Unloaded) | AL27: 6.08 | BC27: Insurance | BD27: =BE17 -> 13453.9 | BE27: =BF17 -> 53.8156 | BF27: =BE27/($BD$43*$BE$60) -> 0.19727126 | BG27: =BE27/(($BF$53*$K$15)) -> 0.07506995 | BH27: =BE27/$BE$36 -> 0.47206667 | BI27: =BH27/MAX($D$62,SUM($BD$39:$BD$40)) -> 0.011801667 | BJ27: =BE27/$BE$34 -> 0.056401758 | BO27: Total | BP27: =SUM(BP19:BP26) -> 112827.23 | CH27: 43 | CJ27: 5 | CK27: 24 | CL27: 7.5 | CM27: 5000 | CN27: 4000
J28: Fuel | K28: =BD29 -> 45845.556 | L28: =BE29 -> 183.38222 | M28: =BF29 -> 0.67222222 | N28: =BG29 -> 0.25580862 | O28: =BH29 -> 1.608616 | P28: =BI29 -> 0.0402154 | Q28: =BJ29 -> 0.19219482 | BC28: Labor | BD28: =BE28*$D$15*$D$14 -> 74865 | BE28: =BE72 -> 299.46 | BF28: =BE28/($BD$43*$BE$60) -> 1.0977273 | BG28: =BE28/(($BF$53*$K$15)) -> 0.41773105 | BH28: =BE28/$BE$36 -> 2.6268421 | BI28: =BH28/MAX($D$62,SUM($BD$39:$BD$40)) -> 0.065671053 | BJ28: =BE28/$BE$34 -> 0.31385083 | BR28: Benefits | BU28: Based on survey data | CH28: 44 | CJ28: 5.5 | CK28: 24.5 | CM28: 5500 | CN28: 4500
A29: Equipment | J29: Tires | K29: =BD30 -> 4638.8465 | L29: =BE30 -> 18.555386 | M29: =BF30 -> 0.068018278 | N29: =BG30 -> 0.025883794 | O29: =BH30 -> 0.16276655 | P29: =BI30 -> 0.0040691636 | Q29: =BJ30 -> 0.019447082 | AH29: Equipment | BC29: Fuel | BD29: =BE29*$D$15*$D$14 -> 45845.556 | BE29: =D20*BI43*BE60 -> 183.38222 | BF29: =BE29/($BD$43*$BE$60) -> 0.67222222 | BG29: =BE29/(($BF$53*$K$15)) -> 0.25580862 | BH29: =BE29/$BE$36 -> 1.608616 | BI29: =BH29/MAX($D$62,SUM($BD$39:$BD$40)) -> 0.0402154 | BJ29: =BE29/$BE$34 -> 0.19219482 | BO29: New Vehicle | BP29: 194798.17 | BR29: Y | BS29: 0.3 | BV29: $/mile | CH29: 45 | CJ29: 6 | CK29: 25 | CM29: 6000 | CN29: 5000
A30: New or Used trucks? | D30: =Simplified!D24 -> New Vehicle | J30: Minor Repair and Maintenance | K30: =BD31 -> 17817.92 | L30: =BE31 -> 71.271679 | M30: =BF31 -> 0.26125982 | N30: =BG31 -> 0.099420269 | O30: =BH31 -> 0.62519017 | P30: =BI31 -> 0.015629754 | Q30: =BJ31 -> 0.074696705 | AH30: New or Used trucks? | AK30: New Vehicle | BC30: Tires | BD30: =BE30*$D$15*$D$14 -> 4638.8465 | BE30: =BJ43*BE60 -> 18.555386 | BF30: =BE30/($BD$43*$BE$60) -> 0.068018278 | BG30: =BE30/(($BF$53*$K$15)) -> 0.025883794 | BH30: =BE30/$BE$36 -> 0.16276655 | BI30: =BH30/MAX($D$62,SUM($BD$39:$BD$40)) -> 0.0040691636 | BJ30: =BE30/$BE$34 -> 0.019447082 | BO30: Used Vehicle | BP30: 103309.52 | BR30: N | BS30: 0 | BU30: Tires | BV30: =BP20/BV26 -> 0.068018278 | CH30: 46 | CJ30: 6.5 | CK30: 25.5 | CM30: 6500 | CN30: 5500
A31: Average Truck Purchase Price ($) | E31: 205000 | J31: Oil and Lube | K31: =BD32 -> 1432.2 | L31: =BE32 -> 5.7288 | M31: =BF32 -> 0.021 | N31: =BG32 -> 0.0079913767 | O31: =BH32 -> 0.050252632 | P31: =BI32 -> 0.0012563158 | Q31: =BJ32 -> 0.0060041028 | AH31: Average Truck Purchase Price ($) | AL31: 195000 | BC31: Minor Repair and Maintenance | BD31: =BE31*$D$15*$D$14 -> 17817.92 | BE31: =(BK43*BE60)+(IF(E50="Y",BN52,0)) -> 71.271679 | BF31: =BE31/($BD$43*$BE$60) -> 0.26125982 | BG31: =BE31/(($BF$53*$K$15)) -> 0.099420269 | BH31: =BE31/$BE$36 -> 0.62519017 | BI31: =BH31/MAX($D$62,SUM($BD$39:$BD$40)) -> 0.015629754 | BJ31: =BE31/$BE$34 -> 0.074696705 | BO31: Rate | BP31: 0.09 | BU31: Minor Repair and Maintenance | BV31: =BP19/BV26 -> 0.17768211 | CH31: 47 | CJ31: 7 | CK31: 26 | CM31: 7000 | CN31: 6000
A32: Interest Rate (APR (%)) | E32: 0.09 | AH32: Interest Rate (APR (%)) | AL32: 0.09 | BC32: Oil and Lube | BD32: =BE32*$D$15*$D$14 -> 1432.2 | BE32: =BL43*BE60 -> 5.7288 | BF32: =BE32/($BD$43*$BE$60) -> 0.021 | BG32: =BE32/(($BF$53*$K$15)) -> 0.0079913767 | BH32: =BE32/$BE$36 -> 0.050252632 | BI32: =BH32/MAX($D$62,SUM($BD$39:$BD$40)) -> 0.0012563158 | BJ32: =BE32/$BE$34 -> 0.0060041028 | BO32: Years | BP32: 4 | BR32: Mechanic Cost | BU32: Oil and Lube | BV32: 0.021 | CH32: 48 | CJ32: 7.5 | CK32: 26.5 | CM32: 7500 | CN32: 6500
A33: Years of Financing | E33: 4 | J33: Total | K33: =BD34 -> 238536.89 | L33: =SUM(L23:L31) -> 954.14756 | M33: =SUM(M23:M31) -> 3.4976084 | N33: =SUM(N23:N31) -> 1.330986 | O33: =SUM(O23:O31) -> 8.2808273 | P33: =SUM(P23:P31) -> 0.21785623 | Q33: =BJ34 -> 1 | AH33: Years of Financing | AL33: 4 | BO33: Salvage Value New | BP33: =0.29*BP29 -> 56491.469 | BR33: Average salary | BS33: 59372.83 | CH33: 49 | CJ33: 8 | CK33: 27 | CM33: 8000 | CN33: 7000
A34: Truck Salvage Value ($) | E34: =0.3*E31 -> 61500 | AH34: Truck Salvage Value ($) | AL34: 58500 | BC34: Total | BD34: =SUM(BD24:BD32) -> 238536.89 | BE34: =SUM(BE24:BE32) -> 954.14756 | BF34: =SUM(BF24:BF32) -> 3.4976084 | BG34: =SUM(BG24:BG32) -> 1.330986 | BH34: =SUM(BH24:BH32) -> 8.3697155 | BI34: =SUM(BI24:BI32) -> 0.20924289 | BJ34: =SUM(BJ24:BJ32) -> 1 | BO34: Salvage Value Used | BP34: =0.29*BP30 -> 29959.761 | BR34: Number of Mechanics | BS34: 1 | BU34: Based on ATRI 2025 | CH34: 50 | CJ34: 8.5 | CK34: 27.5 | CM34: 8500 | CN34: 7500
A35: Average Truck Lifespan (years) | E35: 5 | AH35: Average Truck Lifespan (years) | AL35: 4 | BR35: Salary ($/yr) | BS35: 59372.83 | BV35: $/mile | CH35: 51 | CJ35: 9 | CK35: 28 | CM35: 9000 | CN35: 8000
A36: Type of Trailer | D36: =Simplified!D25 -> 4-Bolster | AH36: Type of Trailer | AK36: 4-Bolster | BC36: Volume Moved | BE36: =D18*BE60 -> 114 | BO36: Trailers | BR36: Weekly ($/wk) | BS36: 1115.67 | BU36: Tires | BV36: 0.047 | CH36: 52 | CJ36: 9.5 | CK36: 28.5 | CM36: 9500 | CN36: 8500
A37: Average Trailer Purchase Price ($) | E37: 29000 | AH37: Average Trailer Purchase Price ($) | AL37: 28600 | BO37: Plantation | BP37: 22027.778 | BR37: Daily ($/day) | BS37: 223.13 | BU37: Minor Repair and Maintenance | BV37: 0.363 | CJ37: 10 | CK37: 29 | CM37: 10000 | CN37: 9000
A38: Average Trailer Lifespan (years) | E38: 25 | AH38: Average Trailer Lifespan (years) | AL38: 25 | BC38: Road Type | BD38: Mileage | BE38: MPH | BF38: Minutes/Mile | BG38: Time | BH38: MPG | BI38: Fuel Used | BJ38: Tires | BK38: Minor Repair and Maintenance | BL38: Oil and Lube | BO38: 4-Bolster | BP38: 28622.222 | BR38: Hourly ($/hr) | BS38: 27.89 | CJ38: 10.5 | CK38: 29.5 | CM38: 10500 | CN38: 9500
BC39: Woods Road Loaded | BD39: =D60 -> 1 | BE39: 10 | BF39: =60/BE39 -> 6 | BG39: =BF39*BD39 -> 6 | BH39: =IF($E$23 = "Y", E24, $D$21) -> 5.4 | BI39: =BD39/BH39 -> 0.18518519 | BJ39: =$BI$49*BD39 -> 0.068018278 | BK39: =$BI$50*BD39 -> 0.17768211 | BL39: =$BI$51*BD39 -> 0.021 | BO39: Pole | BP39: 17000 | CJ39: 11 | CK39: 30 | CM39: 11000 | CN39: 10000
A40: Insurance ($/yr) | D40: =Simplified!D26 -> 13453.9 | AH40: Insurance ($/yr) | AK40: 13453.9 | BC40: Paved Road Loaded | BD40: =D61 -> 30 | BE40: 55 | BF40: =60/BE40 -> 1.0909091 | BG40: =BF40*BD40 -> 32.727273 | BH40: =IF($E$23 = "Y", E25, $D$21) -> 5.4 | BI40: =BD40/BH40 -> 5.5555556 | BJ40: =$BI$49*BD40 -> 2.0405483 | BK40: =$BI$50*BD40 -> 5.3304633 | BL40: =$BI$51*BD40 -> 0.63 | BO40: Chip Van | BP40: 67266.667 | BR40: Unloaded Miles | CJ40: 11.5 | CK40: 30.5 | CM40: 11500
A41: Permits/Taxes ($/yr) | D41: =Simplified!D27 -> 2598.27 | AH41: Permits/Taxes ($/yr) | AK41: 2598.27 | BC41: Paved Road Unloaded | BD41: =D61+BD46 -> 36.2 | BE41: 55 | BF41: =60/BE41 -> 1.0909091 | BG41: =BF41*BD41 -> 39.490909 | BH41: =IF($E$23 = "Y", E26, $D$21) -> 5.4 | BI41: =BD41/BH41 -> 6.7037037 | BJ41: =$BI$49*BD41 -> 2.4622617 | BK41: =$BI$50*BD41 -> 6.4320923 | BL41: =$BI$51*BD41 -> 0.7602 | BO41: Other/Combination | BP41: 36475.69 | BR41: Unloaded Miles (%) | BS41: 0.45 | CJ41: 12 | CK41: 31 | CM41: 12000
BC42: Woods Road Unloaded | BD42: =D60 -> 1 | BE42: 10 | BF42: =60/BE42 -> 6 | BG42: =BF42*BD42 -> 6 | BH42: =IF($E$23 = "Y", E27, $D$21) -> 5.4 | BI42: =BD42/BH42 -> 0.18518519 | BJ42: =$BI$49*BD42 -> 0.068018278 | BK42: =$BI$50*BD42 -> 0.17768211 | BL42: =$BI$51*BD42 -> 0.021 | BO42: Average years in service | BP42: 25 | BR42: Ancillary Mileage | BS42: =1-(2*IF(BS41>1,BS41/100,BS41)) -> 0.1 | CJ42: 12.5 | CK42: 31.5 | CM42: 12500
A43: Labor | AH43: Labor | BC43: Total | BD43: =SUM(BD39:BD42) -> 68.2 | BG43: =SUM(BG39:BG42) -> 84.218182 | BI43: =SUM(BI39:BI42) -> 12.62963 | BJ43: =SUM(BJ39:BJ42) -> 4.6388465 | BK43: =SUM(BK39:BK42) -> 12.11792 | BL43: =SUM(BL39:BL42) -> 1.4322 | CJ43: 13 | CK43: 32 | CM43: 13000
...
